BEGIN:VCALENDAR
VERSION:2.0
PRODID:-//The Choral Arts Society of Utah Master Chorale - ECPv6.15.18//NONSGML v1.0//EN
CALSCALE:GREGORIAN
METHOD:PUBLISH
X-WR-CALNAME:The Choral Arts Society of Utah Master Chorale
X-ORIGINAL-URL:http://casu.org
X-WR-CALDESC:Events for The Choral Arts Society of Utah Master Chorale
REFRESH-INTERVAL;VALUE=DURATION:PT1H
X-Robots-Tag:noindex
X-PUBLISHED-TTL:PT1H
BEGIN:VTIMEZONE
TZID:America/Denver
BEGIN:DAYLIGHT
TZOFFSETFROM:-0700
TZOFFSETTO:-0600
TZNAME:MDT
DTSTART:20240310T090000
END:DAYLIGHT
BEGIN:STANDARD
TZOFFSETFROM:-0600
TZOFFSETTO:-0700
TZNAME:MST
DTSTART:20241103T080000
END:STANDARD
BEGIN:DAYLIGHT
TZOFFSETFROM:-0700
TZOFFSETTO:-0600
TZNAME:MDT
DTSTART:20250309T090000
END:DAYLIGHT
BEGIN:STANDARD
TZOFFSETFROM:-0600
TZOFFSETTO:-0700
TZNAME:MST
DTSTART:20251102T080000
END:STANDARD
BEGIN:DAYLIGHT
TZOFFSETFROM:-0700
TZOFFSETTO:-0600
TZNAME:MDT
DTSTART:20260308T090000
END:DAYLIGHT
BEGIN:STANDARD
TZOFFSETFROM:-0600
TZOFFSETTO:-0700
TZNAME:MST
DTSTART:20261101T080000
END:STANDARD
END:VTIMEZONE
BEGIN:VEVENT
DTSTART;TZID=America/Denver:20251206T193000
DTEND;TZID=America/Denver:20251206T210000
DTSTAMP:20260420T000244
CREATED:20251017T033419Z
LAST-MODIFIED:20251117T175507Z
UID:1847-1765049400-1765054800@casu.org
SUMMARY:KUTV Holiday Pops Concert
DESCRIPTION:GET YOUR TICKETS HERE\nThe Choral Arts Society of Utah presents the 29th annual KUTV Holiday Pops Concert\, benefitting the KUTV Salvation Army Angel Tree program\, The West Valley Symphony of Utah joins the choir\, with our featured guests Peter Breinholt and the Taylorsville High School Madrigals. Get your tickets today at Eventbrite.com. \n \nPeter Breinholt is a well-known performer in the Salt Lake region and became so largely through word-of-mouth. His debut record became the best-selling independently released CD ever in the state of Utah\, and was described a decade after its release as “an underground classic” by Salt Lake Magazine. Peter has performed for countless sold-out crowds in every major concert hall in the state\, including Kingsbury Hall\, Tuacahn and Sundance. Peter was also honored with the Governor’s Award for Achievement in the Performing Arts for his influence as a songwriter and performing artist. \nWait until you hear the Taylorsville High School Madrigals. They are amazing auditioned singers under the expert direction of Leah Tarrant. The choral program at this school is fantastic\, and there is a long line every fall of students hoping to be accepted into the program. Come and hear them and you will see why. \nFounded in 1991 the West Valley Symphony of Utah brings together an all-volunteer ensemble of around 80 talented musicians from Provo to Tremonton delivering high-quality concerts ranging from classical masterworks to lively pops programs in West Valley City and the surrounding communities. The ensemble is also known for its performances on the WorldStage! Concert Series and is the official orchestra for the annual Larry H. Miller Christmas Carol Sing-along.
URL:http://casu.org/event/kutv-holiday-pops-concert-4/
LOCATION:Cottonwood High School Auditorium\, 5715 S 1300 E\, Murray\, UT\, 84121\, United States
CATEGORIES:Benefit Concert,Choral-Orchestral Concert,Christmas Music,Tickets Required
ATTACH;FMTTYPE=image/jpeg:http://casu.org/wp-content/uploads/2025/11/HP2025-Poster-800.jpg
ORGANIZER;CN="Choral Arts Society Of Utah":MAILTO:casuconductor@xmission.com
END:VEVENT
END:VCALENDAR