BEGIN:VCALENDAR
VERSION:2.0
PRODID:-//The Choral Arts Society of Utah Master Chorale - ECPv6.15.18//NONSGML v1.0//EN
CALSCALE:GREGORIAN
METHOD:PUBLISH
X-WR-CALNAME:The Choral Arts Society of Utah Master Chorale
X-ORIGINAL-URL:http://casu.org
X-WR-CALDESC:Events for The Choral Arts Society of Utah Master Chorale
REFRESH-INTERVAL;VALUE=DURATION:PT1H
X-Robots-Tag:noindex
X-PUBLISHED-TTL:PT1H
BEGIN:VTIMEZONE
TZID:America/Denver
BEGIN:DAYLIGHT
TZOFFSETFROM:-0700
TZOFFSETTO:-0600
TZNAME:MDT
DTSTART:20240310T090000
END:DAYLIGHT
BEGIN:STANDARD
TZOFFSETFROM:-0600
TZOFFSETTO:-0700
TZNAME:MST
DTSTART:20241103T080000
END:STANDARD
BEGIN:DAYLIGHT
TZOFFSETFROM:-0700
TZOFFSETTO:-0600
TZNAME:MDT
DTSTART:20250309T090000
END:DAYLIGHT
BEGIN:STANDARD
TZOFFSETFROM:-0600
TZOFFSETTO:-0700
TZNAME:MST
DTSTART:20251102T080000
END:STANDARD
BEGIN:DAYLIGHT
TZOFFSETFROM:-0700
TZOFFSETTO:-0600
TZNAME:MDT
DTSTART:20260308T090000
END:DAYLIGHT
BEGIN:STANDARD
TZOFFSETFROM:-0600
TZOFFSETTO:-0700
TZNAME:MST
DTSTART:20261101T080000
END:STANDARD
END:VTIMEZONE
BEGIN:VEVENT
DTSTART;TZID=America/Denver:20250517T163000
DTEND;TZID=America/Denver:20250517T193000
DTSTAMP:20260420T133646
CREATED:20250301T201410Z
LAST-MODIFIED:20250505T062429Z
UID:1782-1747499400-1747510200@casu.org
SUMMARY:Armed Forces Day Concert
DESCRIPTION:SALT LAKE CITY – Music Director Sterling Poulson and the Choral Arts Society of Utah invite you to a FREE concert dedicated to honoring our men and women in the Armed Forces\, both past and present. Bring your family and enjoy plenty of food\, fun\, support service booths and great entertainment. The evening entertainment begins at 4:30 p.m. with the 23rd Army rock combo Article 15. The band\, choir and Company B take the stage at 5:30 performing patriotic favorites which conclude with a rousing rendition of John Philip Sousa’s Stars & Stripes Forever. The Utah Department of Veterans and Military Affairs will honor outstanding service members and employees from military units across Utah.  \nCompany B is a close harmony vocal trio that uplifts audiences with golden era American classics reminiscent of the Andrews Sisters. With sets packed with classic boogie-woogie hits\, swing and jazz standards\, and their take on more contemporary songs\, Company B keeps guests anxious to hear what is next. They pack dance floors with the nostalgic and familiar and keep them on their toes by surprising them with something fun and new. They take care to provide sets full of upbeat numbers curated to keep audiences engaged and dancing. \nThe Utah National Guard 23rd Army Band has played for Presidents\, Senators\, Congressmen\, and Heads of State.  It gives clinics and concerts for schools\, plays at civic functions\, marches in parades\, and provides music for military balls\, changes of command\, and pass-in-reviews. The rock combo Article 15 will make you smile no matter what generation you hail from. \nNow in its 39th year\, members of the Choral Arts Society of Utah volunteer their time and talents to further the choral art in Utah\, as well as benefit organizations offering humanitarian services to the local area.  For more information on upcoming events\, please visit our website at www.casu.org\, and be sure to follow us on Facebook\, Instagram\, and Twitter.     \nSpecial thanks to our sponsors who make this event possible: The Utah Department of Veterans and Military Affairs\, The Joseph and Kathleen Sorenson Legacy Foundation\, The Larry H. and Gail Miller Family Foundation\, Salt Lake County Zoo\, Arts and Parks\, The Gallivan Center\, and KUTV 2News. 
URL:http://casu.org/event/armed-forces-day-concert-5/
LOCATION:Gallivan Center\, 239 S Main St\,\, Salt Lake City\, UT\, 84111\, United States
CATEGORIES:Choir / 23rd Army Band
ATTACH;FMTTYPE=image/png:http://casu.org/wp-content/uploads/2025/05/AFD-2025-12x18-Poster.png
ORGANIZER;CN="Choral Arts Society Of Utah":MAILTO:casuconductor@xmission.com
END:VEVENT
END:VCALENDAR