BEGIN:VCALENDAR
VERSION:2.0
PRODID:-//The Choral Arts Society of Utah Master Chorale - ECPv6.15.18//NONSGML v1.0//EN
CALSCALE:GREGORIAN
METHOD:PUBLISH
X-WR-CALNAME:The Choral Arts Society of Utah Master Chorale
X-ORIGINAL-URL:http://casu.org
X-WR-CALDESC:Events for The Choral Arts Society of Utah Master Chorale
REFRESH-INTERVAL;VALUE=DURATION:PT1H
X-Robots-Tag:noindex
X-PUBLISHED-TTL:PT1H
BEGIN:VTIMEZONE
TZID:America/Denver
BEGIN:DAYLIGHT
TZOFFSETFROM:-0700
TZOFFSETTO:-0600
TZNAME:MDT
DTSTART:20230312T090000
END:DAYLIGHT
BEGIN:STANDARD
TZOFFSETFROM:-0600
TZOFFSETTO:-0700
TZNAME:MST
DTSTART:20231105T080000
END:STANDARD
BEGIN:DAYLIGHT
TZOFFSETFROM:-0700
TZOFFSETTO:-0600
TZNAME:MDT
DTSTART:20240310T090000
END:DAYLIGHT
BEGIN:STANDARD
TZOFFSETFROM:-0600
TZOFFSETTO:-0700
TZNAME:MST
DTSTART:20241103T080000
END:STANDARD
BEGIN:DAYLIGHT
TZOFFSETFROM:-0700
TZOFFSETTO:-0600
TZNAME:MDT
DTSTART:20250309T090000
END:DAYLIGHT
BEGIN:STANDARD
TZOFFSETFROM:-0600
TZOFFSETTO:-0700
TZNAME:MST
DTSTART:20251102T080000
END:STANDARD
END:VTIMEZONE
BEGIN:VEVENT
DTSTART;TZID=America/Denver:20240712T193000
DTEND;TZID=America/Denver:20240712T210000
DTSTAMP:20260420T203216
CREATED:20240301T070020Z
LAST-MODIFIED:20240531T201028Z
UID:1607-1720812600-1720818000@casu.org
SUMMARY:Days of ’47 KUTV Pops Concert
DESCRIPTION:CLICK HERE FOR TICKETS BEGINNING JUNE 1ST \n     Sterling Poulson\, music director and conductor of the Days of ’47 KUTV Pops concert since 1997\, invites you to join the Choral Arts Society of Utah\, 23rd Army Band\, and guest artists Tenor\, George Dyer and Family for two great nights of inspiring music celebrating our state\, our nation\, and the courage of mankind. We are also celebrating the 100th anniversary of the 23rd Army Band. \n\nGeorge Dyer soared onto the operatic scene in 1996\, making his professional debut to rave reviews with New York City Opera as Ralph Rackstraw in H.M.S. Pinafore at the Lincoln Center in New York City. Since that debut\, he has performed extensively to wide acclaim in opera houses and concert halls across North America and many countries worldwide.  On numerous occasions\, Mr. Dyer has been a guest soloist with the Tabernacle Choir on Temple Square\, including a 2005 worldwide broadcast to over 63 countries\, translated into over 75 languages. He has been a district finalist in the Metropolitan Opera auditions. and a national finalist in the San Francisco Opera’s Merola Program auditions\, and a worldwide finalist in the prestigious Marion Anderson Vocal Competition.  Reviewers\, announcers\, and fans alike regularly mention his engaging stage presence\, and his beautiful lyric tenor voice\, frequently described as Powerful\, Rich\, clear\, Silken\, and Gorgeous. His Wife Clarisse and their family will also join George in the performance. George and Clarisse were awarded the 2019 Duet of the Year from the Branson Show Awards\, and George was awarded Male Vocalist of the Year also in 2021 (Branson Terry Music Show Awards) \n\n\nThe 23rdArmy Band has played for presidents\, senators\, members of Congress\, and heads of state. The group performs for thousands of people\, giving clinics and concerts at schools\, performing at civic functions\, marching in parades\, and providing music for military dances\, changes of command\, and pass-in-reviews\, according to the group’s website\, 23rdArmyBand.com.
URL:http://casu.org/event/days-of-47-kutv-pops-concert-3/
LOCATION:UT
CATEGORIES:Choir / 23rd Army Band,Free Concert,Tickets Required
ATTACH;FMTTYPE=image/jpeg:http://casu.org/wp-content/uploads/2024/03/47Pops24-poster-SLCA-scaled.jpg
END:VEVENT
END:VCALENDAR