BEGIN:VCALENDAR
VERSION:2.0
PRODID:-//The Choral Arts Society of Utah Master Chorale - ECPv6.15.18//NONSGML v1.0//EN
CALSCALE:GREGORIAN
METHOD:PUBLISH
X-WR-CALNAME:The Choral Arts Society of Utah Master Chorale
X-ORIGINAL-URL:http://casu.org
X-WR-CALDESC:Events for The Choral Arts Society of Utah Master Chorale
REFRESH-INTERVAL;VALUE=DURATION:PT1H
X-Robots-Tag:noindex
X-PUBLISHED-TTL:PT1H
BEGIN:VTIMEZONE
TZID:America/Denver
BEGIN:DAYLIGHT
TZOFFSETFROM:-0700
TZOFFSETTO:-0600
TZNAME:MDT
DTSTART:20240310T090000
END:DAYLIGHT
BEGIN:STANDARD
TZOFFSETFROM:-0600
TZOFFSETTO:-0700
TZNAME:MST
DTSTART:20241103T080000
END:STANDARD
BEGIN:DAYLIGHT
TZOFFSETFROM:-0700
TZOFFSETTO:-0600
TZNAME:MDT
DTSTART:20250309T090000
END:DAYLIGHT
BEGIN:STANDARD
TZOFFSETFROM:-0600
TZOFFSETTO:-0700
TZNAME:MST
DTSTART:20251102T080000
END:STANDARD
BEGIN:DAYLIGHT
TZOFFSETFROM:-0700
TZOFFSETTO:-0600
TZNAME:MDT
DTSTART:20260308T090000
END:DAYLIGHT
BEGIN:STANDARD
TZOFFSETFROM:-0600
TZOFFSETTO:-0700
TZNAME:MST
DTSTART:20261101T080000
END:STANDARD
END:VTIMEZONE
BEGIN:VEVENT
DTSTART;TZID=America/Denver:20251017T193000
DTEND;TZID=America/Denver:20251017T210000
DTSTAMP:20260419T220405
CREATED:20251003T054650Z
LAST-MODIFIED:20251003T060637Z
UID:1832-1760729400-1760734800@casu.org
SUMMARY:The Dream of the Red Chamber
DESCRIPTION:  \nDownload your Free Tickets Here\n\nExperience the Passion and Poetry of a Chinese Masterpiece \n\n\nDream of the Red Chamber: A Cantata by Taiwanese composer Eric Liu\, Experience the Passion and Poetry of a Chinese Masterpiece sung in English. Kuei-Jhu Chen conducts the Premiere U.S. performance with the Choral Arts Society of Utah along with violinist Leslie Henrie\, cellist\, David Workman\, pianist Susanna Karrington\, three narratives\, including our conductor Sterling Poulson\, and yes\, several abacuses. \n\n\nAdapted from the legendary 18th-Century novel by Cao Xueqin\, this powerful cantata brings one of China’s greatest literary epics to life through music. Follow the Haunting love story of Jia Baoyu and Lin Daiyu\, the glittering rise and tragic fall of the Jia family\, and the dreamlike beauty of a vanished world. This evocative work explores themes of love\, destiny\, and impermanence.. A timeless tale re-imagined for the concert stage. Other selections on the concert also reflect the same theme of love and our destiny as we create it.
URL:http://casu.org/event/the-dream-of-the-red-chamber/
LOCATION:Mid Valley Performing Arts Center\, 2525 Taylorsville Blvd\, Taylorsville\,\, UT\, 84129\, United States
CATEGORIES:Choir Concert
ATTACH;FMTTYPE=image/jpeg:http://casu.org/wp-content/uploads/2025/10/101725-Dream-of-the-Red-Chamber-Poster.jpg
ORGANIZER;CN="Choral Arts Society Of Utah":MAILTO:casuconductor@xmission.com
END:VEVENT
END:VCALENDAR