BEGIN:VCALENDAR
VERSION:2.0
PRODID:-//The Choral Arts Society of Utah Master Chorale - ECPv6.15.18//NONSGML v1.0//EN
CALSCALE:GREGORIAN
METHOD:PUBLISH
X-ORIGINAL-URL:http://casu.org
X-WR-CALDESC:Events for The Choral Arts Society of Utah Master Chorale
REFRESH-INTERVAL;VALUE=DURATION:PT1H
X-Robots-Tag:noindex
X-PUBLISHED-TTL:PT1H
BEGIN:VTIMEZONE
TZID:America/Denver
BEGIN:DAYLIGHT
TZOFFSETFROM:-0700
TZOFFSETTO:-0600
TZNAME:MDT
DTSTART:20230312T090000
END:DAYLIGHT
BEGIN:STANDARD
TZOFFSETFROM:-0600
TZOFFSETTO:-0700
TZNAME:MST
DTSTART:20231105T080000
END:STANDARD
BEGIN:DAYLIGHT
TZOFFSETFROM:-0700
TZOFFSETTO:-0600
TZNAME:MDT
DTSTART:20240310T090000
END:DAYLIGHT
BEGIN:STANDARD
TZOFFSETFROM:-0600
TZOFFSETTO:-0700
TZNAME:MST
DTSTART:20241103T080000
END:STANDARD
BEGIN:DAYLIGHT
TZOFFSETFROM:-0700
TZOFFSETTO:-0600
TZNAME:MDT
DTSTART:20250309T090000
END:DAYLIGHT
BEGIN:STANDARD
TZOFFSETFROM:-0600
TZOFFSETTO:-0700
TZNAME:MST
DTSTART:20251102T080000
END:STANDARD
END:VTIMEZONE
BEGIN:VEVENT
DTSTART;TZID=America/Denver:20240313T193000
DTEND;TZID=America/Denver:20240313T203000
DTSTAMP:20260423T054023
CREATED:20240301T064301Z
LAST-MODIFIED:20240301T064301Z
UID:1593-1710358200-1710361800@casu.org
SUMMARY:Spring Concert 2024
DESCRIPTION:  \nKuei-Jhu Chen is a seasoned conductor pursuing his doctorate in choral conducting at the University of Utah School of Music. We are thrilled to have this experience working with him for this concert which is one of his doctoral recitals. The 90-voice Choral Arts Society of Utah\, founded in 1987 continues to perform a variety of concerts here along the Wasatch Front and abroad. \nThis concert is a great opportunity for students who need concert attendance for credit from local high schools to attend a free\, high-quality classical concert in the beautiful Libby Gardner Concert Hall at the University of Utah. A small orchestra will accompany the choir in performing the “Requiem in D minor\, Op. 48 by Gabriel Fauré.  The choir\, with accompanist Misty Jensen\, will perform three additional choral pieces to round out the concert.
URL:http://casu.org/event/spring-concert-2024/
LOCATION:Libby Gardner Concert Hall\, 1375 Presidents' Cir\, Salt Lake City\, UT\, 84112\, United States
CATEGORIES:Choir Concert,Choral-Orchestral Concert,Free Concert
ATTACH;FMTTYPE=image/jpeg:http://casu.org/wp-content/uploads/2024/02/Spring-2024-poster.jpg
ORGANIZER;CN="Choral Arts Society Of Utah":MAILTO:casuconductor@xmission.com
END:VEVENT
END:VCALENDAR