BEGIN:VCALENDAR
VERSION:2.0
PRODID:-//The Choral Arts Society of Utah Master Chorale - ECPv6.15.18//NONSGML v1.0//EN
CALSCALE:GREGORIAN
METHOD:PUBLISH
X-ORIGINAL-URL:http://casu.org
X-WR-CALDESC:Events for The Choral Arts Society of Utah Master Chorale
REFRESH-INTERVAL;VALUE=DURATION:PT1H
X-Robots-Tag:noindex
X-PUBLISHED-TTL:PT1H
BEGIN:VTIMEZONE
TZID:America/Denver
BEGIN:DAYLIGHT
TZOFFSETFROM:-0700
TZOFFSETTO:-0600
TZNAME:MDT
DTSTART:20240310T090000
END:DAYLIGHT
BEGIN:STANDARD
TZOFFSETFROM:-0600
TZOFFSETTO:-0700
TZNAME:MST
DTSTART:20241103T080000
END:STANDARD
BEGIN:DAYLIGHT
TZOFFSETFROM:-0700
TZOFFSETTO:-0600
TZNAME:MDT
DTSTART:20250309T090000
END:DAYLIGHT
BEGIN:STANDARD
TZOFFSETFROM:-0600
TZOFFSETTO:-0700
TZNAME:MST
DTSTART:20251102T080000
END:STANDARD
BEGIN:DAYLIGHT
TZOFFSETFROM:-0700
TZOFFSETTO:-0600
TZNAME:MDT
DTSTART:20260308T090000
END:DAYLIGHT
BEGIN:STANDARD
TZOFFSETFROM:-0600
TZOFFSETTO:-0700
TZNAME:MST
DTSTART:20261101T080000
END:STANDARD
END:VTIMEZONE
BEGIN:VEVENT
DTSTART;TZID=America/Denver:20250711T193000
DTEND;TZID=America/Denver:20250711T213000
DTSTAMP:20260420T035607
CREATED:20250603T040819Z
LAST-MODIFIED:20250707T045217Z
UID:1812-1752262200-1752269400@casu.org
SUMMARY:Days of '47 KUTV Pops Concert - July 11th  and 12th
DESCRIPTION:Click this link to select and download your tickets\n     Sterling Poulson\, music director and conductor of the Days of ’47 KUTV Pops concert since 1997\, invites you to join the Salt Lake Symphony\, and guest artists Lark & Spur for two great nights of inspiring music celebrating the spirit of the Pioneers that is still strong today\, presented by Seven Brothers Burgers and ENVE Composites \n\n\nFounded in 1976\, the Salt Lake Symphony is one of the area’s most highly respected volunteer driven orchestras. The Salt Lake Symphony is a non-profit organization dedicated to performing quality classical music concerts for the Wasatch Front community. The Symphony performs around 15 concerts per year. The approximately seventy-five hard-working musicians of the SLS volunteer roughly 10\,000 hours annually to accomplish this goal. Although the members of the Salt Lake Symphony come from all walks of life and frequently work full-time in other professions\, they hold one thing in common: They play for the love and passion of music. Their dedication as volunteers sets them apart and creates a unique bond. \n\n\n     Lark & Spur is an acoustic sextet known for their sophisticated blend of jazz standards\, Celtic and French folk songs\, gypsy swing\, bossa nova and Broadway tunes. Originally formed as a duo\, when Lori Decker and Jeff Whiteley began performing on the streets of European cities like Paris and Munich\, their captivating sound led to appearances on French radio and television and invitations to European jazz festivals such as Montreux\, Brienz\, and Deauville. Over time\, the group expanded to include additional guitars\, piano\, double bass\, and percussion. Their performances are characterized by respect for melody\, memorable vocals\, soaring harmonies\, intricate arrangements\, and heartfelt delivery. Views of Lark & Spur videos on YouTube number in the millions. Lark & Spur was instrumental in the founding of the arts nonprofit\, Excellence in the Community. 
URL:http://casu.org/event/days-of-47-kutv-pops-concert-5/
LOCATION:Abravanel Hall 123 W. South Temple\, Abravanel Hall 123 W. South Temple\, Salt Lake City\, UT\, 84110\, United States
CATEGORIES:Choral-Orchestral Concert,Free Concert,Tickets Required
ATTACH;FMTTYPE=image/jpeg:http://casu.org/wp-content/uploads/2025/06/Day-of-47-Poster-2025-web-1.jpg
END:VEVENT
END:VCALENDAR