BEGIN:VCALENDAR
VERSION:2.0
PRODID:-//The Choral Arts Society of Utah Master Chorale - ECPv6.15.18//NONSGML v1.0//EN
CALSCALE:GREGORIAN
METHOD:PUBLISH
X-WR-CALNAME:The Choral Arts Society of Utah Master Chorale
X-ORIGINAL-URL:https://casu.org
X-WR-CALDESC:Events for The Choral Arts Society of Utah Master Chorale
REFRESH-INTERVAL;VALUE=DURATION:PT1H
X-Robots-Tag:noindex
X-PUBLISHED-TTL:PT1H
BEGIN:VTIMEZONE
TZID:America/Denver
BEGIN:DAYLIGHT
TZOFFSETFROM:-0700
TZOFFSETTO:-0600
TZNAME:MDT
DTSTART:20210314T090000
END:DAYLIGHT
BEGIN:STANDARD
TZOFFSETFROM:-0600
TZOFFSETTO:-0700
TZNAME:MST
DTSTART:20211107T080000
END:STANDARD
BEGIN:DAYLIGHT
TZOFFSETFROM:-0700
TZOFFSETTO:-0600
TZNAME:MDT
DTSTART:20220313T090000
END:DAYLIGHT
BEGIN:STANDARD
TZOFFSETFROM:-0600
TZOFFSETTO:-0700
TZNAME:MST
DTSTART:20221106T080000
END:STANDARD
BEGIN:DAYLIGHT
TZOFFSETFROM:-0700
TZOFFSETTO:-0600
TZNAME:MDT
DTSTART:20230312T090000
END:DAYLIGHT
BEGIN:STANDARD
TZOFFSETFROM:-0600
TZOFFSETTO:-0700
TZNAME:MST
DTSTART:20231105T080000
END:STANDARD
END:VTIMEZONE
BEGIN:VEVENT
DTSTART;TZID=America/Denver:20221203T193000
DTEND;TZID=America/Denver:20221203T210000
DTSTAMP:20260422T135520
CREATED:20221027T165118Z
LAST-MODIFIED:20221027T165118Z
UID:1450-1670095800-1670101200@casu.org
SUMMARY:KUTV Holiday Pops Concert
DESCRIPTION:PURCHASE TICKETS HERE\nThe Choral Arts Society of Utah presents the 25th annual KUTV Holiday Pops Concert. The West Valley Symphony of Utah joins the choir\, with our featured guest artist Ryan Shupe and the RubberBand. \n\n\nBluegrass Unlimited calls Ryan Shupe & The RubberBand a “fresh hybrid of new music influenced by bluegrass but featuring the percussive fervor of rock\, rap\, and other styles… They bring imaginative arrangements and daring musicianship to their quintet sound.”  Salt Lake City Weekly says\, “Ryan Shupe & the RubberBand are pros without peer… Their intense performance went far beyond ‘good’; try ‘humbling’.”  \n\n\nNow in its 35th year\, the Choral Arts Society of Utah’s 100-voice choir is based in Salt Lake City. In June of this year\, the choir performed a series of concerts in France\, including participating in the ceremonies at the American Cemeteries in Normandy. The choir’s most recent performance celebrated pioneer spirit in Salt Lake’s Abravanel Hall for the 25th performance of the Days of ’47 KUTV Pops Concert. Many of the choir’s performances are benefit concerts for schools and organizations providing humanitarian services to local areas. See a complete listing of the choir’s upcoming performances at www.casu.org or find them on Facebook\, Instagram\, and Twitter. \n\n\nThe West Valley Symphony of Utah performs annually with the Choral Arts Society of Utah for the KUTV/Salvation Army Holiday Pops concert to benefit the Angel Tree Program\, as well as participating in Utah Cultural Celebration Center’s WorldStage concert series. We are often sought for additional events in surrounding communities. \n\n\nThis concert is funded in part by grants from the Salt Lake County Zoo Arts & Parks (ZAP)\, the Larry H. and Gail Miller Family Foundation\, and the Joseph & Kathleen Sorenson Legacy Foundation.
URL:https://casu.org/event/kutv-holiday-pops-concert-2/
LOCATION:Cottonwood High School Auditorium\, 5715 S 1300 E\, Murray\, UT\, 84121\, United States
CATEGORIES:Benefit Concert
ATTACH;FMTTYPE=image/jpeg:https://casu.org/wp-content/uploads/2022/10/HP2022-poster-800.jpg
ORGANIZER;CN="Choral Arts Society Of Utah":MAILTO:casuconductor@xmission.com
END:VEVENT
END:VCALENDAR